BEGIN:VCALENDAR
VERSION:2.0
PRODID:-//Cajicá Alcaldía Municipal - ECPv6.15.15//NONSGML v1.0//EN
CALSCALE:GREGORIAN
METHOD:PUBLISH
X-WR-CALNAME:Cajicá Alcaldía Municipal
X-ORIGINAL-URL:https://cajica.gov.co
X-WR-CALDESC:Eventos para Cajicá Alcaldía Municipal
REFRESH-INTERVAL;VALUE=DURATION:PT1H
X-Robots-Tag:noindex
X-PUBLISHED-TTL:PT1H
BEGIN:VTIMEZONE
TZID:America/Bogota
BEGIN:STANDARD
TZOFFSETFROM:-0500
TZOFFSETTO:-0500
TZNAME:-05
DTSTART:20200101T000000
END:STANDARD
END:VTIMEZONE
BEGIN:VEVENT
DTSTART;VALUE=DATE:20211001
DTEND;VALUE=DATE:20211101
DTSTAMP:20260423T020219
CREATED:20210422T213058Z
LAST-MODIFIED:20210422T213058Z
UID:5725-1633046400-1635724799@cajica.gov.co
SUMMARY:Soy generación más sonriente
DESCRIPTION:Secretaria de Salud
URL:https://cajica.gov.co/event/soy-generacion-mas-sonriente-3/
END:VEVENT
BEGIN:VEVENT
DTSTART;VALUE=DATE:20211001
DTEND;VALUE=DATE:20211101
DTSTAMP:20260423T020219
CREATED:20210422T212755Z
LAST-MODIFIED:20210422T212756Z
UID:5719-1633046400-1635724799@cajica.gov.co
SUMMARY:Jornadas nacionales de vacunación
DESCRIPTION:Secretaria de Salud
URL:https://cajica.gov.co/event/jornadas-nacionales-de-vacunacion-4/
END:VEVENT
BEGIN:VEVENT
DTSTART;VALUE=DATE:20210924
DTEND;VALUE=DATE:20210927
DTSTAMP:20260423T020219
CREATED:20210422T212526Z
LAST-MODIFIED:20210422T212526Z
UID:5716-1632441600-1632700799@cajica.gov.co
SUMMARY:Festival teatro
DESCRIPTION:Instituto de Cultura y Turismo
URL:https://cajica.gov.co/event/festival-teatro/
END:VEVENT
BEGIN:VEVENT
DTSTART;VALUE=DATE:20210920
DTEND;VALUE=DATE:20210921
DTSTAMP:20260423T020219
CREATED:20210422T212414Z
LAST-MODIFIED:20210422T212414Z
UID:5713-1632096000-1632182399@cajica.gov.co
SUMMARY:Jornada de donación de sangre
DESCRIPTION:Secretaria de Salud
URL:https://cajica.gov.co/event/jornada-de-donacion-de-sangre-7/
END:VEVENT
BEGIN:VEVENT
DTSTART;VALUE=DATE:20210918
DTEND;VALUE=DATE:20210919
DTSTAMP:20260423T020219
CREATED:20210422T211933Z
LAST-MODIFIED:20210422T211933Z
UID:5709-1631923200-1632009599@cajica.gov.co
SUMMARY:Festival música llanera
DESCRIPTION:Instituto de Cultura y Turismo
URL:https://cajica.gov.co/event/festival-musica-llanera/
END:VEVENT
BEGIN:VEVENT
DTSTART;VALUE=DATE:20210901
DTEND;VALUE=DATE:20211001
DTSTAMP:20260423T020219
CREATED:20210422T212252Z
LAST-MODIFIED:20210422T212252Z
UID:5712-1630454400-1633046399@cajica.gov.co
SUMMARY:Soy generación más sonriente
DESCRIPTION:Secretaria de Salud
URL:https://cajica.gov.co/event/soy-generacion-mas-sonriente-2/
END:VEVENT
BEGIN:VEVENT
DTSTART;VALUE=DATE:20210901
DTEND;VALUE=DATE:20211001
DTSTAMP:20260423T020219
CREATED:20210422T212117Z
LAST-MODIFIED:20210422T212117Z
UID:5704-1630454400-1633046399@cajica.gov.co
SUMMARY:Jornadas nacionales de vacunación
DESCRIPTION:Secretaria de Salud
URL:https://cajica.gov.co/event/jornadas-nacionales-de-vacunacion-3/
END:VEVENT
BEGIN:VEVENT
DTSTART;VALUE=DATE:20210819
DTEND;VALUE=DATE:20210820
DTSTAMP:20260423T020219
CREATED:20210422T211824Z
LAST-MODIFIED:20210422T211824Z
UID:5707-1629331200-1629417599@cajica.gov.co
SUMMARY:Primavera exposición colectiva
DESCRIPTION:Instituto de Cultura y Turismo
URL:https://cajica.gov.co/event/primavera-exposicion-colectiva/
END:VEVENT
BEGIN:VEVENT
DTSTART;VALUE=DATE:20210819
DTEND;VALUE=DATE:20210820
DTSTAMP:20260423T020219
CREATED:20210422T211713Z
LAST-MODIFIED:20210422T211713Z
UID:5703-1629331200-1629417599@cajica.gov.co
SUMMARY:Jornada de donación de sangre
DESCRIPTION:Secretaria de Salud
URL:https://cajica.gov.co/event/jornada-de-donacion-de-sangre-6/
END:VEVENT
BEGIN:VEVENT
DTSTART;VALUE=DATE:20210813
DTEND;VALUE=DATE:20210816
DTSTAMP:20260423T020219
CREATED:20210422T211425Z
LAST-MODIFIED:20210422T211425Z
UID:5700-1628812800-1629071999@cajica.gov.co
SUMMARY:Festival fortaleza rock
DESCRIPTION:Instituto de Cultura y Turismo
URL:https://cajica.gov.co/event/festival-fortaleza-rock/
END:VEVENT
BEGIN:VEVENT
DTSTART;VALUE=DATE:20210801
DTEND;VALUE=DATE:20210901
DTSTAMP:20260423T020219
CREATED:20210422T211612Z
LAST-MODIFIED:20210422T211612Z
UID:5702-1627776000-1630454399@cajica.gov.co
SUMMARY:Movilización cáncer
DESCRIPTION:Secretaria de Salud
URL:https://cajica.gov.co/event/movilizacion-cancer/
END:VEVENT
BEGIN:VEVENT
DTSTART;TZID=America/Bogota:20210731T080000
DTEND;TZID=America/Bogota:20210731T160000
DTSTAMP:20260423T020219
CREATED:20210608T181308Z
LAST-MODIFIED:20210608T181308Z
UID:7439-1627718400-1627747200@cajica.gov.co
SUMMARY:Unidad Móvil- Quebrada del Campo
DESCRIPTION:Secretaria de Salud
URL:https://cajica.gov.co/event/unidad-movil-quebrada-del-campo/
END:VEVENT
BEGIN:VEVENT
DTSTART;TZID=America/Bogota:20210730T080000
DTEND;TZID=America/Bogota:20210730T160000
DTSTAMP:20260423T020219
CREATED:20210608T181207Z
LAST-MODIFIED:20210608T181207Z
UID:7436-1627632000-1627660800@cajica.gov.co
SUMMARY:Unidad Móvil- Aguanica
DESCRIPTION:Secretaria de Salud
URL:https://cajica.gov.co/event/unidad-movil-aguanica-2/
END:VEVENT
BEGIN:VEVENT
DTSTART;VALUE=DATE:20210726
DTEND;VALUE=DATE:20210731
DTSTAMP:20260423T020219
CREATED:20210608T172529Z
LAST-MODIFIED:20210608T172529Z
UID:7381-1627257600-1627689599@cajica.gov.co
SUMMARY:Convocatoria Festival de Bandas
DESCRIPTION:Secretaria de Educación
URL:https://cajica.gov.co/event/convocatoria-festival-de-bandas/
END:VEVENT
BEGIN:VEVENT
DTSTART;TZID=America/Bogota:20210724T080000
DTEND;TZID=America/Bogota:20210724T160000
DTSTAMP:20260423T020219
CREATED:20210608T181113Z
LAST-MODIFIED:20210608T181113Z
UID:7434-1627113600-1627142400@cajica.gov.co
SUMMARY:Unidad Móvil- Canelón
DESCRIPTION:Secretaria de Salud
URL:https://cajica.gov.co/event/unidad-movil-canelon/
END:VEVENT
BEGIN:VEVENT
DTSTART;TZID=America/Bogota:20210723T080000
DTEND;TZID=America/Bogota:20210723T160000
DTSTAMP:20260423T020219
CREATED:20210608T181024Z
LAST-MODIFIED:20210608T181024Z
UID:7432-1627027200-1627056000@cajica.gov.co
SUMMARY:Unidad Móvil- La Florida
DESCRIPTION:Secretaria de Salud
URL:https://cajica.gov.co/event/unidad-movil-la-florida-2/
END:VEVENT
BEGIN:VEVENT
DTSTART;VALUE=DATE:20210719
DTEND;VALUE=DATE:20210720
DTSTAMP:20260423T020219
CREATED:20210422T211251Z
LAST-MODIFIED:20210422T211251Z
UID:5697-1626652800-1626739199@cajica.gov.co
SUMMARY:Jornada de donación de sangre
DESCRIPTION:Secretaria de Salud
URL:https://cajica.gov.co/event/jornada-de-donacion-de-sangre-5/
END:VEVENT
BEGIN:VEVENT
DTSTART;TZID=America/Bogota:20210717T080000
DTEND;TZID=America/Bogota:20210717T160000
DTSTAMP:20260423T020219
CREATED:20210608T180922Z
LAST-MODIFIED:20210608T180922Z
UID:7430-1626508800-1626537600@cajica.gov.co
SUMMARY:Unidad Móvil- Tayrona
DESCRIPTION:Secretaria de Salud
URL:https://cajica.gov.co/event/unidad-movil-tayrona/
END:VEVENT
BEGIN:VEVENT
DTSTART;TZID=America/Bogota:20210716T080000
DTEND;TZID=America/Bogota:20210716T160000
DTSTAMP:20260423T020219
CREATED:20210608T180828Z
LAST-MODIFIED:20210608T180828Z
UID:7428-1626422400-1626451200@cajica.gov.co
SUMMARY:Unidad Móvil- Puente Vargas Sector la Variante
DESCRIPTION:Secretaria de Salud
URL:https://cajica.gov.co/event/unidad-movil-puente-vargas-sector-la-variante/
END:VEVENT
BEGIN:VEVENT
DTSTART;VALUE=DATE:20210714
DTEND;VALUE=DATE:20210802
DTSTAMP:20260423T020219
CREATED:20210608T172320Z
LAST-MODIFIED:20210608T172320Z
UID:7379-1626220800-1627862399@cajica.gov.co
SUMMARY:Convocatoria Premio Forjador del maestro
DESCRIPTION:Secretaria de Educación
URL:https://cajica.gov.co/event/convocatoria-premio-forjador-del-maestro/
END:VEVENT
BEGIN:VEVENT
DTSTART;TZID=America/Bogota:20210710T080000
DTEND;TZID=America/Bogota:20210710T160000
DTSTAMP:20260423T020219
CREATED:20210608T180713Z
LAST-MODIFIED:20210608T180713Z
UID:7426-1625904000-1625932800@cajica.gov.co
SUMMARY:Unidad Móvil- Santa Inés
DESCRIPTION:Secretaria de Salud
URL:https://cajica.gov.co/event/unidad-movil-santa-ines/
END:VEVENT
BEGIN:VEVENT
DTSTART;TZID=America/Bogota:20210709T080000
DTEND;TZID=America/Bogota:20210709T160000
DTSTAMP:20260423T020219
CREATED:20210608T180602Z
LAST-MODIFIED:20210608T180602Z
UID:7424-1625817600-1625846400@cajica.gov.co
SUMMARY:Unidad Móvil- La Palma
DESCRIPTION:Secretaria de Salud
URL:https://cajica.gov.co/event/unidad-movil-la-palma/
END:VEVENT
BEGIN:VEVENT
DTSTART;TZID=America/Bogota:20210703T080000
DTEND;TZID=America/Bogota:20210703T160000
DTSTAMP:20260423T020219
CREATED:20210608T180445Z
LAST-MODIFIED:20210608T180457Z
UID:7422-1625299200-1625328000@cajica.gov.co
SUMMARY:Unidad Móvil- Centro
DESCRIPTION:Secretaria de Salud
URL:https://cajica.gov.co/event/unidad-movil-centro/
END:VEVENT
BEGIN:VEVENT
DTSTART;TZID=America/Bogota:20210702T080000
DTEND;TZID=America/Bogota:20210702T160000
DTSTAMP:20260423T020219
CREATED:20210608T180350Z
LAST-MODIFIED:20210608T180350Z
UID:7420-1625212800-1625241600@cajica.gov.co
SUMMARY:Unidad Móvil- Calahorra
DESCRIPTION:Secretaria de Salud
URL:https://cajica.gov.co/event/unidad-movil-calahorra/
END:VEVENT
BEGIN:VEVENT
DTSTART;VALUE=DATE:20210701
DTEND;VALUE=DATE:20210801
DTSTAMP:20260423T020219
CREATED:20210422T211048Z
LAST-MODIFIED:20210422T211048Z
UID:5696-1625097600-1627775999@cajica.gov.co
SUMMARY:lactaton municipal
DESCRIPTION:Secretaria de Salud
URL:https://cajica.gov.co/event/lactaton-municipal/
END:VEVENT
BEGIN:VEVENT
DTSTART;VALUE=DATE:20210701
DTEND;VALUE=DATE:20210801
DTSTAMP:20260423T020219
CREATED:20210422T205638Z
LAST-MODIFIED:20210422T205638Z
UID:5679-1625097600-1627775999@cajica.gov.co
SUMMARY:Soy generación más sonriente
DESCRIPTION:Secretaria de Salud
URL:https://cajica.gov.co/event/soy-generacion-mas-sonriente/
END:VEVENT
BEGIN:VEVENT
DTSTART;VALUE=DATE:20210701
DTEND;VALUE=DATE:20210801
DTSTAMP:20260423T020219
CREATED:20210422T205444Z
LAST-MODIFIED:20210422T205444Z
UID:5678-1625097600-1627775999@cajica.gov.co
SUMMARY:Jornadas nacionales de vacunación
DESCRIPTION:Secretaria de Salud
URL:https://cajica.gov.co/event/jornadas-nacionales-de-vacunacion-2/
END:VEVENT
BEGIN:VEVENT
DTSTART;VALUE=DATE:20210701
DTEND;VALUE=DATE:20210801
DTSTAMP:20260423T020219
CREATED:20210422T205307Z
LAST-MODIFIED:20210422T205513Z
UID:5691-1625097600-1627775999@cajica.gov.co
SUMMARY:Encuentro departamental de consejeros de cultura
DESCRIPTION:Instituto de Cultura y Turismo
URL:https://cajica.gov.co/event/encuentro-departamental-de-consejeros-de-culrura-2/
END:VEVENT
BEGIN:VEVENT
DTSTART;VALUE=DATE:20210701
DTEND;VALUE=DATE:20210801
DTSTAMP:20260423T020219
CREATED:20210422T205216Z
LAST-MODIFIED:20210422T205536Z
UID:5690-1625097600-1627775999@cajica.gov.co
SUMMARY:Festival de bandas sinfónicas "festiband"
DESCRIPTION:Instituto de Cultura y Turismo
URL:https://cajica.gov.co/event/festival-de-bandas-sinfonicas-festiband/
END:VEVENT
BEGIN:VEVENT
DTSTART;VALUE=DATE:20210628
DTEND;VALUE=DATE:20210629
DTSTAMP:20260423T020219
CREATED:20210608T172141Z
LAST-MODIFIED:20210608T172141Z
UID:7376-1624838400-1624924799@cajica.gov.co
SUMMARY:Convocatoria Fondo de apoyo  a la Educación Superior
DESCRIPTION:Secretaria de Educación
URL:https://cajica.gov.co/event/convocatoria-fondo-de-apoyo-a-la-educacion-superior/
END:VEVENT
END:VCALENDAR