BEGIN:VCALENDAR
VERSION:2.0
PRODID:-//Cajicá Alcaldía Municipal - ECPv6.15.15//NONSGML v1.0//EN
CALSCALE:GREGORIAN
METHOD:PUBLISH
X-ORIGINAL-URL:https://cajica.gov.co
X-WR-CALDESC:Eventos para Cajicá Alcaldía Municipal
REFRESH-INTERVAL;VALUE=DURATION:PT1H
X-Robots-Tag:noindex
X-PUBLISHED-TTL:PT1H
BEGIN:VTIMEZONE
TZID:America/Bogota
BEGIN:STANDARD
TZOFFSETFROM:-0500
TZOFFSETTO:-0500
TZNAME:-05
DTSTART:20200101T000000
END:STANDARD
END:VTIMEZONE
BEGIN:VEVENT
DTSTART;TZID=America/Bogota:20220331T140000
DTEND;TZID=America/Bogota:20220331T150000
DTSTAMP:20260422T230554
CREATED:20220308T171423Z
LAST-MODIFIED:20220308T171423Z
UID:11260-1648735200-1648738800@cajica.gov.co
SUMMARY:Comité de Derechos Humanos
DESCRIPTION:Secretaria de Gobierno y Participación Comunitaria
URL:https://cajica.gov.co/event/comite-de-derechos-humanos/
END:VEVENT
BEGIN:VEVENT
DTSTART;VALUE=DATE:20220329
DTEND;VALUE=DATE:20220330
DTSTAMP:20260422T230554
CREATED:20220308T170948Z
LAST-MODIFIED:20220308T170948Z
UID:11258-1648512000-1648598399@cajica.gov.co
SUMMARY:Jornada de Conciliación
DESCRIPTION:Secretaria de Gobierno y Participación Comunitaria
URL:https://cajica.gov.co/event/jornada-de-conciliacion-2/
LOCATION:Casa de Justicia
END:VEVENT
BEGIN:VEVENT
DTSTART;VALUE=DATE:20220329
DTEND;VALUE=DATE:20220330
DTSTAMP:20260422T230554
CREATED:20220308T170708Z
LAST-MODIFIED:20220308T170708Z
UID:11256-1648512000-1648598399@cajica.gov.co
SUMMARY:Capaciones Accenorte
DESCRIPTION:Secretaria de Transporte y Movilidad
URL:https://cajica.gov.co/event/capaciones-accenorte/
END:VEVENT
BEGIN:VEVENT
DTSTART;VALUE=DATE:20220325
DTEND;VALUE=DATE:20220326
DTSTAMP:20260422T230554
CREATED:20220308T170145Z
LAST-MODIFIED:20220308T170335Z
UID:11252-1648166400-1648252799@cajica.gov.co
SUMMARY:Graduación Competencias Ciudadanas
DESCRIPTION:Secretaria de Transporte y Movilidad
URL:https://cajica.gov.co/event/graduacion-competencias-ciudadanas/
END:VEVENT
BEGIN:VEVENT
DTSTART;VALUE=DATE:20220324
DTEND;VALUE=DATE:20220325
DTSTAMP:20260422T230554
CREATED:20220308T165834Z
LAST-MODIFIED:20220308T165834Z
UID:11249-1648080000-1648166399@cajica.gov.co
SUMMARY:Charla Universitaria con Grados Once
DESCRIPTION:Secretaria de Ambiente y Desarrollo Rural
URL:https://cajica.gov.co/event/charla-universitaria-con-grados-once/
LOCATION:Instituciones Departamentales
END:VEVENT
BEGIN:VEVENT
DTSTART;VALUE=DATE:20220324
DTEND;VALUE=DATE:20220325
DTSTAMP:20260422T230554
CREATED:20220308T165640Z
LAST-MODIFIED:20220308T165640Z
UID:11247-1648080000-1648166399@cajica.gov.co
SUMMARY:Capacitaciones ANSV
DESCRIPTION:Secretaria de Transporte y Movilidad
URL:https://cajica.gov.co/event/capacitaciones-ansv/
END:VEVENT
BEGIN:VEVENT
DTSTART;VALUE=DATE:20220322
DTEND;VALUE=DATE:20220323
DTSTAMP:20260422T230554
CREATED:20220308T165202Z
LAST-MODIFIED:20220308T165521Z
UID:11240-1647907200-1647993599@cajica.gov.co
SUMMARY:Siembra de Árboles
DESCRIPTION:Dia Mundial del Agua – Secretaria de Ambiente y Desarrollo Rural
URL:https://cajica.gov.co/event/dia-mundial-del-agua/
LOCATION:Clinica Equina
END:VEVENT
BEGIN:VEVENT
DTSTART;VALUE=DATE:20220319
DTEND;VALUE=DATE:20220320
DTSTAMP:20260422T230554
CREATED:20220308T164841Z
LAST-MODIFIED:20220308T164918Z
UID:11237-1647648000-1647734399@cajica.gov.co
SUMMARY:Capacitaciones Accenorte
DESCRIPTION:Secretaria de Transporte y Movilidad
URL:https://cajica.gov.co/event/capacitaciones-accenorte-2/
END:VEVENT
BEGIN:VEVENT
DTSTART;VALUE=DATE:20220318
DTEND;VALUE=DATE:20220319
DTSTAMP:20260422T230554
CREATED:20220308T164640Z
LAST-MODIFIED:20220308T164711Z
UID:11234-1647561600-1647647999@cajica.gov.co
SUMMARY:Bicidestrezas
DESCRIPTION:Secretaria de Transporte y Movilidad
URL:https://cajica.gov.co/event/bicidestrezas-2/
END:VEVENT
BEGIN:VEVENT
DTSTART;VALUE=DATE:20220314
DTEND;VALUE=DATE:20220315
DTSTAMP:20260422T230554
CREATED:20220308T164504Z
LAST-MODIFIED:20220308T164519Z
UID:11231-1647216000-1647302399@cajica.gov.co
SUMMARY:Apertura Convocatoria FESC
DESCRIPTION:Secretaria de Educación
URL:https://cajica.gov.co/event/apertura-convocatoria-fesc/
END:VEVENT
BEGIN:VEVENT
DTSTART;VALUE=DATE:20220311
DTEND;VALUE=DATE:20220312
DTSTAMP:20260422T230554
CREATED:20220308T164239Z
LAST-MODIFIED:20220308T164304Z
UID:11228-1646956800-1647043199@cajica.gov.co
SUMMARY:Jornada Ambiental de Embellecimiento y Limpieza del Municipio
DESCRIPTION:Secretaria de Ambiente y Desarrollo Rural
URL:https://cajica.gov.co/event/jornada-ambiental-de-embellecimiento-y-limpieza-del-municipio/
END:VEVENT
BEGIN:VEVENT
DTSTART;VALUE=DATE:20220309
DTEND;VALUE=DATE:20220310
DTSTAMP:20260422T230554
CREATED:20220308T163957Z
LAST-MODIFIED:20220308T164030Z
UID:11225-1646784000-1646870399@cajica.gov.co
SUMMARY:Capacitaciones Accenorte
DESCRIPTION:Secretaria de Transporte y Movilidad
URL:https://cajica.gov.co/event/capacitaciones-accenorte/
END:VEVENT
BEGIN:VEVENT
DTSTART;TZID=America/Bogota:20220308T080000
DTEND;TZID=America/Bogota:20220308T123000
DTSTAMP:20260422T230554
CREATED:20220308T163120Z
LAST-MODIFIED:20220308T163237Z
UID:11218-1646726400-1646742600@cajica.gov.co
SUMMARY:Jornada de Conciliación
DESCRIPTION:Secretaria de Gobierno y Participación Comunitaria
URL:https://cajica.gov.co/event/jornada-de-conciliacion/
LOCATION:Casa de Justicia
END:VEVENT
BEGIN:VEVENT
DTSTART;VALUE=DATE:20220307
DTEND;VALUE=DATE:20220308
DTSTAMP:20260422T230554
CREATED:20220308T162250Z
LAST-MODIFIED:20220308T162715Z
UID:11208-1646611200-1646697599@cajica.gov.co
SUMMARY:Socialización Plan Maestro de Movilidad
DESCRIPTION:Secretaria de Transporte y Movilidad
URL:https://cajica.gov.co/event/socializacion-plan-maestro-de-movilidad/
END:VEVENT
BEGIN:VEVENT
DTSTART;VALUE=DATE:20220303
DTEND;VALUE=DATE:20220304
DTSTAMP:20260422T230554
CREATED:20220308T162116Z
LAST-MODIFIED:20220308T162525Z
UID:11200-1646265600-1646351999@cajica.gov.co
SUMMARY:Bicidestrezas
DESCRIPTION:Secretaria de Transporte y Movilidad
URL:https://cajica.gov.co/event/bicidestrezas/
END:VEVENT
BEGIN:VEVENT
DTSTART;VALUE=DATE:20220301
DTEND;VALUE=DATE:20220302
DTSTAMP:20260422T230554
CREATED:20220308T161749Z
LAST-MODIFIED:20220308T162417Z
UID:11193-1646092800-1646179199@cajica.gov.co
SUMMARY:Día del Reciclador
DESCRIPTION:Secretaria de Ambiente y Desarrollo Rural
URL:https://cajica.gov.co/event/dia-del-reciclador/
END:VEVENT
BEGIN:VEVENT
DTSTART;VALUE=DATE:20211218
DTEND;VALUE=DATE:20211220
DTSTAMP:20260422T230554
CREATED:20211216T223344Z
LAST-MODIFIED:20211216T223921Z
UID:10325-1639785600-1639958399@cajica.gov.co
SUMMARY:Feria Gastronómica  " Cajicá Paraíso Gastronómico"
DESCRIPTION:Secretaría de Desarrollo Económico
URL:https://cajica.gov.co/event/feria-gastronomica-cajica-paraiso-gastronomico/
LOCATION:Plazoleta Centro Cultural y de Convenciones\, centro cultural\, CAJICA\, CUNDINAMARCA
END:VEVENT
BEGIN:VEVENT
DTSTART;VALUE=DATE:20211217
DTEND;VALUE=DATE:20211218
DTSTAMP:20260422T230554
CREATED:20210422T213444Z
LAST-MODIFIED:20210422T213444Z
UID:5732-1639699200-1639785599@cajica.gov.co
SUMMARY:Jornada de donación de sangre
DESCRIPTION:Secretaria de Salud
URL:https://cajica.gov.co/event/jornada-de-donacion-de-sangre-10/
END:VEVENT
BEGIN:VEVENT
DTSTART;VALUE=DATE:20211216
DTEND;VALUE=DATE:20211225
DTSTAMP:20260422T230554
CREATED:20210422T213546Z
LAST-MODIFIED:20210422T213546Z
UID:5735-1639612800-1640390399@cajica.gov.co
SUMMARY:Jornadas navideñas
DESCRIPTION:Instituto de Cultura y Turismo
URL:https://cajica.gov.co/event/jornadas-navidenas/
END:VEVENT
BEGIN:VEVENT
DTSTART;VALUE=DATE:20211119
DTEND;VALUE=DATE:20211120
DTSTAMP:20260422T230554
CREATED:20210422T213415Z
LAST-MODIFIED:20210422T213415Z
UID:5731-1637280000-1637366399@cajica.gov.co
SUMMARY:Jornada de donación de sangre
DESCRIPTION:Secretaria de Salud
URL:https://cajica.gov.co/event/jornada-de-donacion-de-sangre-9/
END:VEVENT
BEGIN:VEVENT
DTSTART;VALUE=DATE:20211113
DTEND;VALUE=DATE:20211114
DTSTAMP:20260422T230554
CREATED:20210422T213304Z
LAST-MODIFIED:20210422T213304Z
UID:5728-1636761600-1636847999@cajica.gov.co
SUMMARY:Festival de tunas
DESCRIPTION:Instituto de Cultura y Turismo
URL:https://cajica.gov.co/event/festival-de-tunas/
END:VEVENT
BEGIN:VEVENT
DTSTART;VALUE=DATE:20211025
DTEND;VALUE=DATE:20211030
DTSTAMP:20260422T230554
CREATED:20210422T212947Z
LAST-MODIFIED:20210422T212947Z
UID:5722-1635120000-1635551999@cajica.gov.co
SUMMARY:Semana de la ciencia y la tecnología
DESCRIPTION:Dirección Tic´s – Ctei
URL:https://cajica.gov.co/event/semana-de-la-ciencia-y-la-tecnologia/
END:VEVENT
BEGIN:VEVENT
DTSTART;VALUE=DATE:20211023
DTEND;VALUE=DATE:20211025
DTSTAMP:20260422T230554
CREATED:20210422T213226Z
LAST-MODIFIED:20210422T213226Z
UID:5727-1634947200-1635119999@cajica.gov.co
SUMMARY:Festival Danzas
DESCRIPTION:Instituto de Cultura y Turismo
URL:https://cajica.gov.co/event/festival-danzas/
END:VEVENT
BEGIN:VEVENT
DTSTART;VALUE=DATE:20211019
DTEND;VALUE=DATE:20211020
DTSTAMP:20260422T230554
CREATED:20210422T212634Z
LAST-MODIFIED:20210422T212634Z
UID:5718-1634601600-1634687999@cajica.gov.co
SUMMARY:Jornada de donación de sangre
DESCRIPTION:Secretaria de Salud
URL:https://cajica.gov.co/event/jornada-de-donacion-de-sangre-8/
END:VEVENT
BEGIN:VEVENT
DTSTART;VALUE=DATE:20211001
DTEND;VALUE=DATE:20211101
DTSTAMP:20260422T230554
CREATED:20210422T213058Z
LAST-MODIFIED:20210422T213058Z
UID:5725-1633046400-1635724799@cajica.gov.co
SUMMARY:Soy generación más sonriente
DESCRIPTION:Secretaria de Salud
URL:https://cajica.gov.co/event/soy-generacion-mas-sonriente-3/
END:VEVENT
BEGIN:VEVENT
DTSTART;VALUE=DATE:20211001
DTEND;VALUE=DATE:20211101
DTSTAMP:20260422T230554
CREATED:20210422T212755Z
LAST-MODIFIED:20210422T212756Z
UID:5719-1633046400-1635724799@cajica.gov.co
SUMMARY:Jornadas nacionales de vacunación
DESCRIPTION:Secretaria de Salud
URL:https://cajica.gov.co/event/jornadas-nacionales-de-vacunacion-4/
END:VEVENT
BEGIN:VEVENT
DTSTART;VALUE=DATE:20210924
DTEND;VALUE=DATE:20210927
DTSTAMP:20260422T230554
CREATED:20210422T212526Z
LAST-MODIFIED:20210422T212526Z
UID:5716-1632441600-1632700799@cajica.gov.co
SUMMARY:Festival teatro
DESCRIPTION:Instituto de Cultura y Turismo
URL:https://cajica.gov.co/event/festival-teatro/
END:VEVENT
BEGIN:VEVENT
DTSTART;VALUE=DATE:20210920
DTEND;VALUE=DATE:20210921
DTSTAMP:20260422T230554
CREATED:20210422T212414Z
LAST-MODIFIED:20210422T212414Z
UID:5713-1632096000-1632182399@cajica.gov.co
SUMMARY:Jornada de donación de sangre
DESCRIPTION:Secretaria de Salud
URL:https://cajica.gov.co/event/jornada-de-donacion-de-sangre-7/
END:VEVENT
BEGIN:VEVENT
DTSTART;VALUE=DATE:20210918
DTEND;VALUE=DATE:20210919
DTSTAMP:20260422T230554
CREATED:20210422T211933Z
LAST-MODIFIED:20210422T211933Z
UID:5709-1631923200-1632009599@cajica.gov.co
SUMMARY:Festival música llanera
DESCRIPTION:Instituto de Cultura y Turismo
URL:https://cajica.gov.co/event/festival-musica-llanera/
END:VEVENT
BEGIN:VEVENT
DTSTART;VALUE=DATE:20210901
DTEND;VALUE=DATE:20211001
DTSTAMP:20260422T230554
CREATED:20210422T212252Z
LAST-MODIFIED:20210422T212252Z
UID:5712-1630454400-1633046399@cajica.gov.co
SUMMARY:Soy generación más sonriente
DESCRIPTION:Secretaria de Salud
URL:https://cajica.gov.co/event/soy-generacion-mas-sonriente-2/
END:VEVENT
END:VCALENDAR