BEGIN:VCALENDAR
VERSION:2.0
PRODID:-//Cajicá Alcaldía Municipal - ECPv6.15.15//NONSGML v1.0//EN
CALSCALE:GREGORIAN
METHOD:PUBLISH
X-ORIGINAL-URL:https://cajica.gov.co
X-WR-CALDESC:Eventos para Cajicá Alcaldía Municipal
REFRESH-INTERVAL;VALUE=DURATION:PT1H
X-Robots-Tag:noindex
X-PUBLISHED-TTL:PT1H
BEGIN:VTIMEZONE
TZID:America/Bogota
BEGIN:STANDARD
TZOFFSETFROM:-0500
TZOFFSETTO:-0500
TZNAME:-05
DTSTART:20210101T000000
END:STANDARD
END:VTIMEZONE
BEGIN:VEVENT
DTSTART;VALUE=DATE:20221202
DTEND;VALUE=DATE:20221203
DTSTAMP:20260422T152622
CREATED:20220913T154831Z
LAST-MODIFIED:20220913T154831Z
UID:13702-1669939200-1670025599@cajica.gov.co
SUMMARY:Capacitaciones Accenorte
DESCRIPTION:Secretaria de Transporte y Movilidad
URL:https://cajica.gov.co/event/capacitaciones-accenorte-11/
END:VEVENT
BEGIN:VEVENT
DTSTART;TZID=America/Bogota:20221124T090000
DTEND;TZID=America/Bogota:20221124T100000
DTSTAMP:20260422T152622
CREATED:20220913T154516Z
LAST-MODIFIED:20220913T154516Z
UID:13698-1669280400-1669284000@cajica.gov.co
SUMMARY:Comité de DDHH derechos humanos
DESCRIPTION:Secretaria de Gobierno y Participación Comunitaria
URL:https://cajica.gov.co/event/comite-de-ddhh-derechos-humanos/
END:VEVENT
BEGIN:VEVENT
DTSTART;VALUE=DATE:20221124
DTEND;VALUE=DATE:20221125
DTSTAMP:20260422T152622
CREATED:20220913T154347Z
LAST-MODIFIED:20220913T154347Z
UID:13696-1669248000-1669334399@cajica.gov.co
SUMMARY:Capacitaciones ANSV
DESCRIPTION:Secretaria de Transporte y Movilidad
URL:https://cajica.gov.co/event/capacitaciones-ansv-7/
END:VEVENT
BEGIN:VEVENT
DTSTART;VALUE=DATE:20221119
DTEND;VALUE=DATE:20221120
DTSTAMP:20260422T152622
CREATED:20220913T154055Z
LAST-MODIFIED:20220913T154055Z
UID:13694-1668816000-1668902399@cajica.gov.co
SUMMARY:Ceremonia premio maestro forjador
DESCRIPTION:Secretaria de Educación
URL:https://cajica.gov.co/event/ceremonia-premio-maestro-forjador/
END:VEVENT
BEGIN:VEVENT
DTSTART;VALUE=DATE:20221117
DTEND;VALUE=DATE:20221118
DTSTAMP:20260422T152622
CREATED:20220913T153953Z
LAST-MODIFIED:20220913T153953Z
UID:13692-1668643200-1668729599@cajica.gov.co
SUMMARY:Auditorias Transporte
DESCRIPTION:Secretaria de Transporte y Movilidad
URL:https://cajica.gov.co/event/auditorias-transporte-2/
END:VEVENT
BEGIN:VEVENT
DTSTART;VALUE=DATE:20221104
DTEND;VALUE=DATE:20221105
DTSTAMP:20260422T152622
CREATED:20220913T153856Z
LAST-MODIFIED:20220913T153856Z
UID:13690-1667520000-1667606399@cajica.gov.co
SUMMARY:Capacitaciones Accenorte
DESCRIPTION:Secretaria de Transporte y Movilidad
URL:https://cajica.gov.co/event/capacitaciones-accenorte-10/
END:VEVENT
BEGIN:VEVENT
DTSTART;TZID=America/Bogota:20221027T100000
DTEND;TZID=America/Bogota:20221027T110000
DTSTAMP:20260422T152622
CREATED:20220913T153714Z
LAST-MODIFIED:20220913T153714Z
UID:13688-1666864800-1666868400@cajica.gov.co
SUMMARY:Comité municipal de casa de justicia
DESCRIPTION:Secretaria de Gobierno y Participación Comunitaria
URL:https://cajica.gov.co/event/comite-municipal-de-casa-de-justicia-2/
END:VEVENT
BEGIN:VEVENT
DTSTART;VALUE=DATE:20221024
DTEND;VALUE=DATE:20221025
DTSTAMP:20260422T152622
CREATED:20220913T153556Z
LAST-MODIFIED:20220913T153556Z
UID:13686-1666569600-1666655999@cajica.gov.co
SUMMARY:Día internacional contra el cambio climático
DESCRIPTION:Secretaria de Ambiente y Desarrollo Rural
URL:https://cajica.gov.co/event/dia-internacional-contra-el-cambio-climatico/
END:VEVENT
BEGIN:VEVENT
DTSTART;VALUE=DATE:20221024
DTEND;VALUE=DATE:20221025
DTSTAMP:20260422T152622
CREATED:20220913T153459Z
LAST-MODIFIED:20220913T153459Z
UID:13684-1666569600-1666655999@cajica.gov.co
SUMMARY:Capacitaciones ANSV
DESCRIPTION:Secretaria de Transporte y Movilidad
URL:https://cajica.gov.co/event/capacitaciones-ansv-6/
END:VEVENT
BEGIN:VEVENT
DTSTART;VALUE=DATE:20221019
DTEND;VALUE=DATE:20221026
DTSTAMP:20260422T152622
CREATED:20220913T154645Z
LAST-MODIFIED:20220913T154645Z
UID:13700-1666137600-1666742399@cajica.gov.co
SUMMARY:Semana de la Ciencia\, Tecnología e Innovación
DESCRIPTION:Dirección TIC´s-CTeI
URL:https://cajica.gov.co/event/semana-de-la-ciencia-tecnologia-e-innovacion/
END:VEVENT
BEGIN:VEVENT
DTSTART;VALUE=DATE:20221013
DTEND;VALUE=DATE:20221014
DTSTAMP:20260422T152622
CREATED:20220913T153341Z
LAST-MODIFIED:20220913T153341Z
UID:13682-1665619200-1665705599@cajica.gov.co
SUMMARY:Actividades ANSV con la comunidad
DESCRIPTION:Secretaria de Transporte y Movilidad
URL:https://cajica.gov.co/event/actividades-ansv-con-la-comunidad-2/
END:VEVENT
BEGIN:VEVENT
DTSTART;VALUE=DATE:20221009
DTEND;VALUE=DATE:20221010
DTSTAMP:20260422T152622
CREATED:20220913T151002Z
LAST-MODIFIED:20220913T151002Z
UID:13680-1665273600-1665359999@cajica.gov.co
SUMMARY:Celebración del Día mundial de los animales
DESCRIPTION:Secretaria de Ambiente y Desarrollo Rural
URL:https://cajica.gov.co/event/celebracion-del-dia-mundial-de-los-animales/
END:VEVENT
BEGIN:VEVENT
DTSTART;VALUE=DATE:20221007
DTEND;VALUE=DATE:20221008
DTSTAMP:20260422T152622
CREATED:20220912T215007Z
LAST-MODIFIED:20220912T215007Z
UID:13671-1665100800-1665187199@cajica.gov.co
SUMMARY:Capacitaciones Accenorte
DESCRIPTION:Secretaria de Transporte y Movilidad
URL:https://cajica.gov.co/event/capacitaciones-accenorte-9/
END:VEVENT
BEGIN:VEVENT
DTSTART;VALUE=DATE:20221005
DTEND;VALUE=DATE:20221007
DTSTAMP:20260422T152622
CREATED:20220912T214831Z
LAST-MODIFIED:20220912T214854Z
UID:13669-1664928000-1665100799@cajica.gov.co
SUMMARY:Feria universitaria
DESCRIPTION:Secretaria de Educación
URL:https://cajica.gov.co/event/feria-universitaria/
END:VEVENT
BEGIN:VEVENT
DTSTART;VALUE=DATE:20220929
DTEND;VALUE=DATE:20220930
DTSTAMP:20260422T152622
CREATED:20220912T214716Z
LAST-MODIFIED:20220912T214716Z
UID:13667-1664409600-1664495999@cajica.gov.co
SUMMARY:Conferencia seguridad alimentaria
DESCRIPTION:Secretaria de Ambiente y Desarrollo Rural
URL:https://cajica.gov.co/event/conferencia-seguridad-alimentaria/
END:VEVENT
BEGIN:VEVENT
DTSTART;VALUE=DATE:20220928
DTEND;VALUE=DATE:20220929
DTSTAMP:20260422T152622
CREATED:20220912T214613Z
LAST-MODIFIED:20220912T214613Z
UID:13665-1664323200-1664409599@cajica.gov.co
SUMMARY:Capacitaciones Accenorte
DESCRIPTION:Secretaria de Transporte y Movilidad
URL:https://cajica.gov.co/event/capacitaciones-accenorte-8/
END:VEVENT
BEGIN:VEVENT
DTSTART;TZID=America/Bogota:20220922T093000
DTEND;TZID=America/Bogota:20220922T103000
DTSTAMP:20260422T152622
CREATED:20220912T214514Z
LAST-MODIFIED:20220912T214514Z
UID:13663-1663839000-1663842600@cajica.gov.co
SUMMARY:Comité de Derechos Humanos
DESCRIPTION:Secretaria de Gobierno y Participación Comunitaria
URL:https://cajica.gov.co/event/comite-de-derechos-humanos-2/
END:VEVENT
BEGIN:VEVENT
DTSTART;TZID=America/Bogota:20220922T083000
DTEND;TZID=America/Bogota:20220922T093000
DTSTAMP:20260422T152622
CREATED:20220912T214410Z
LAST-MODIFIED:20220912T214410Z
UID:13661-1663835400-1663839000@cajica.gov.co
SUMMARY:Comité de protección al consumidor
DESCRIPTION:Secretaria de Gobierno y Participación Comunitaria
URL:https://cajica.gov.co/event/comite-de-proteccion-al-consumidor/
END:VEVENT
BEGIN:VEVENT
DTSTART;VALUE=DATE:20220922
DTEND;VALUE=DATE:20220923
DTSTAMP:20260422T152622
CREATED:20220912T214150Z
LAST-MODIFIED:20220912T214150Z
UID:13659-1663804800-1663891199@cajica.gov.co
SUMMARY:Cierre semana de la movilidad
DESCRIPTION:Secretaria de Transporte y Movilidad
URL:https://cajica.gov.co/event/cierre-semana-de-la-movilidad/
END:VEVENT
BEGIN:VEVENT
DTSTART;VALUE=DATE:20220917
DTEND;VALUE=DATE:20220920
DTSTAMP:20260422T152622
CREATED:20220912T213639Z
LAST-MODIFIED:20220912T213922Z
UID:13657-1663372800-1663631999@cajica.gov.co
SUMMARY:Actividades semana de la movilidad
DESCRIPTION:Secretaria de Trasporte y Movilidad
URL:https://cajica.gov.co/event/actividades-semana-de-la-movilidad-2/
END:VEVENT
BEGIN:VEVENT
DTSTART;VALUE=DATE:20220917
DTEND;VALUE=DATE:20220918
DTSTAMP:20260422T152622
CREATED:20220912T213446Z
LAST-MODIFIED:20220912T213446Z
UID:13655-1663372800-1663459199@cajica.gov.co
SUMMARY:Día mundial de la limpieza
DESCRIPTION:Secretaria de Ambiente y Desarrollo Rural
URL:https://cajica.gov.co/event/dia-mundial-de-la-limpieza/
END:VEVENT
BEGIN:VEVENT
DTSTART;VALUE=DATE:20220916
DTEND;VALUE=DATE:20220917
DTSTAMP:20260422T152622
CREATED:20220912T213235Z
LAST-MODIFIED:20220912T213235Z
UID:13650-1663286400-1663372799@cajica.gov.co
SUMMARY:Apertura semana de la movilidad
DESCRIPTION:Secretaria de Transporte y Movilidad
URL:https://cajica.gov.co/event/apertura-semana-de-la-movilidad/
END:VEVENT
BEGIN:VEVENT
DTSTART;VALUE=DATE:20220910
DTEND;VALUE=DATE:20220911
DTSTAMP:20260422T152622
CREATED:20220912T181137Z
LAST-MODIFIED:20220912T181137Z
UID:13636-1662768000-1662854399@cajica.gov.co
SUMMARY:Festival de Bandas Músico Marcial
DESCRIPTION:Secretaria de Educación
URL:https://cajica.gov.co/event/festival-de-bandas-musico-marcial/
END:VEVENT
BEGIN:VEVENT
DTSTART;VALUE=DATE:20220906
DTEND;VALUE=DATE:20220907
DTSTAMP:20260422T152622
CREATED:20220912T180926Z
LAST-MODIFIED:20220912T180926Z
UID:13634-1662422400-1662508799@cajica.gov.co
SUMMARY:Ceremonia de grados educación por ciclos
DESCRIPTION:Secretaria de Educación
URL:https://cajica.gov.co/event/ceremonia-de-grados-educacion-por-ciclos/
END:VEVENT
BEGIN:VEVENT
DTSTART;VALUE=DATE:20220906
DTEND;VALUE=DATE:20220907
DTSTAMP:20260422T152622
CREATED:20220912T180755Z
LAST-MODIFIED:20220912T180755Z
UID:13631-1662422400-1662508799@cajica.gov.co
SUMMARY:Semana de la Movilidad
DESCRIPTION:Secretaria de Transporte y Movilidad
URL:https://cajica.gov.co/event/semana-de-la-movilidad/
END:VEVENT
BEGIN:VEVENT
DTSTART;VALUE=DATE:20220829
DTEND;VALUE=DATE:20220830
DTSTAMP:20260422T152622
CREATED:20220912T180611Z
LAST-MODIFIED:20220912T180611Z
UID:13628-1661731200-1661817599@cajica.gov.co
SUMMARY:Capacitaciones colegios
DESCRIPTION:Secretaria de Transporte y Movilidad
URL:https://cajica.gov.co/event/capacitaciones-colegios/
END:VEVENT
BEGIN:VEVENT
DTSTART;VALUE=DATE:20220819
DTEND;VALUE=DATE:20220820
DTSTAMP:20260422T152622
CREATED:20220912T180321Z
LAST-MODIFIED:20220912T180321Z
UID:13625-1660867200-1660953599@cajica.gov.co
SUMMARY:Actividades ANSV con la comunidad
DESCRIPTION:Secretaria de Transporte y Movilidad
URL:https://cajica.gov.co/event/actividades-ansv-con-la-comunidad/
END:VEVENT
BEGIN:VEVENT
DTSTART;VALUE=DATE:20220817
DTEND;VALUE=DATE:20220818
DTSTAMP:20260422T152622
CREATED:20220912T180022Z
LAST-MODIFIED:20220912T180022Z
UID:13615-1660694400-1660780799@cajica.gov.co
SUMMARY:Capacitaciones ANSV
DESCRIPTION:Secretaria de Transporte y Movilidad
URL:https://cajica.gov.co/event/capacitaciones-ansv-5/
END:VEVENT
BEGIN:VEVENT
DTSTART;VALUE=DATE:20220805
DTEND;VALUE=DATE:20220806
DTSTAMP:20260422T152622
CREATED:20220912T174207Z
LAST-MODIFIED:20220912T174207Z
UID:13610-1659657600-1659743999@cajica.gov.co
SUMMARY:Campaña en Tenencia Resposable\, manejo ético de palomas y Jornada de Adopción
DESCRIPTION:Secretaria de Ambiente y Desarrollo Rural
URL:https://cajica.gov.co/event/campana-en-tenencia-resposable-manejo-etico-de-palomas-y-jornada-de-adopcion-2/
END:VEVENT
BEGIN:VEVENT
DTSTART;VALUE=DATE:20220802
DTEND;VALUE=DATE:20220803
DTSTAMP:20260422T152622
CREATED:20220912T173353Z
LAST-MODIFIED:20220912T173353Z
UID:13606-1659398400-1659484799@cajica.gov.co
SUMMARY:Capacitaciones Accenorte
DESCRIPTION:Secretaria de Transporte y Movilidad
URL:https://cajica.gov.co/event/capacitaciones-accenorte-7/
END:VEVENT
END:VCALENDAR