BEGIN:VCALENDAR
VERSION:2.0
PRODID:-//Cajicá Alcaldía Municipal - ECPv6.15.15//NONSGML v1.0//EN
CALSCALE:GREGORIAN
METHOD:PUBLISH
X-WR-CALNAME:Cajicá Alcaldía Municipal
X-ORIGINAL-URL:https://cajica.gov.co
X-WR-CALDESC:Eventos para Cajicá Alcaldía Municipal
REFRESH-INTERVAL;VALUE=DURATION:PT1H
X-Robots-Tag:noindex
X-PUBLISHED-TTL:PT1H
BEGIN:VTIMEZONE
TZID:America/Bogota
BEGIN:STANDARD
TZOFFSETFROM:-0500
TZOFFSETTO:-0500
TZNAME:-05
DTSTART:20200101T000000
END:STANDARD
END:VTIMEZONE
BEGIN:VEVENT
DTSTART;VALUE=DATE:20210701
DTEND;VALUE=DATE:20210801
DTSTAMP:20260425T060301
CREATED:20210422T211048Z
LAST-MODIFIED:20210422T211048Z
UID:5696-1625097600-1627775999@cajica.gov.co
SUMMARY:lactaton municipal
DESCRIPTION:Secretaria de Salud
URL:https://cajica.gov.co/event/lactaton-municipal/
END:VEVENT
BEGIN:VEVENT
DTSTART;VALUE=DATE:20210701
DTEND;VALUE=DATE:20210801
DTSTAMP:20260425T060301
CREATED:20210422T205638Z
LAST-MODIFIED:20210422T205638Z
UID:5679-1625097600-1627775999@cajica.gov.co
SUMMARY:Soy generación más sonriente
DESCRIPTION:Secretaria de Salud
URL:https://cajica.gov.co/event/soy-generacion-mas-sonriente/
END:VEVENT
BEGIN:VEVENT
DTSTART;VALUE=DATE:20210701
DTEND;VALUE=DATE:20210801
DTSTAMP:20260425T060301
CREATED:20210422T205444Z
LAST-MODIFIED:20210422T205444Z
UID:5678-1625097600-1627775999@cajica.gov.co
SUMMARY:Jornadas nacionales de vacunación
DESCRIPTION:Secretaria de Salud
URL:https://cajica.gov.co/event/jornadas-nacionales-de-vacunacion-2/
END:VEVENT
BEGIN:VEVENT
DTSTART;VALUE=DATE:20210701
DTEND;VALUE=DATE:20210801
DTSTAMP:20260425T060301
CREATED:20210422T205307Z
LAST-MODIFIED:20210422T205513Z
UID:5691-1625097600-1627775999@cajica.gov.co
SUMMARY:Encuentro departamental de consejeros de cultura
DESCRIPTION:Instituto de Cultura y Turismo
URL:https://cajica.gov.co/event/encuentro-departamental-de-consejeros-de-culrura-2/
END:VEVENT
BEGIN:VEVENT
DTSTART;VALUE=DATE:20210701
DTEND;VALUE=DATE:20210801
DTSTAMP:20260425T060301
CREATED:20210422T205216Z
LAST-MODIFIED:20210422T205536Z
UID:5690-1625097600-1627775999@cajica.gov.co
SUMMARY:Festival de bandas sinfónicas "festiband"
DESCRIPTION:Instituto de Cultura y Turismo
URL:https://cajica.gov.co/event/festival-de-bandas-sinfonicas-festiband/
END:VEVENT
BEGIN:VEVENT
DTSTART;VALUE=DATE:20210628
DTEND;VALUE=DATE:20210629
DTSTAMP:20260425T060301
CREATED:20210608T172141Z
LAST-MODIFIED:20210608T172141Z
UID:7376-1624838400-1624924799@cajica.gov.co
SUMMARY:Convocatoria Fondo de apoyo  a la Educación Superior
DESCRIPTION:Secretaria de Educación
URL:https://cajica.gov.co/event/convocatoria-fondo-de-apoyo-a-la-educacion-superior/
END:VEVENT
BEGIN:VEVENT
DTSTART;TZID=America/Bogota:20210626T080000
DTEND;TZID=America/Bogota:20210626T160000
DTSTAMP:20260425T060301
CREATED:20210608T180300Z
LAST-MODIFIED:20210608T180300Z
UID:7418-1624694400-1624723200@cajica.gov.co
SUMMARY:Unidad Móvil- Rincón Santo
DESCRIPTION:Secretaria de Salud
URL:https://cajica.gov.co/event/unidad-movil-rincon-santo/
END:VEVENT
BEGIN:VEVENT
DTSTART;TZID=America/Bogota:20210625T080000
DTEND;TZID=America/Bogota:20210625T160000
DTSTAMP:20260425T060301
CREATED:20210608T180200Z
LAST-MODIFIED:20210608T180200Z
UID:7416-1624608000-1624636800@cajica.gov.co
SUMMARY:Unidad Móvil- Puente Vargas
DESCRIPTION:Secretaria de Salud
URL:https://cajica.gov.co/event/unidad-movil-puente-vargas/
END:VEVENT
BEGIN:VEVENT
DTSTART;VALUE=DATE:20210624
DTEND;VALUE=DATE:20210625
DTSTAMP:20260425T060301
CREATED:20210608T171919Z
LAST-MODIFIED:20210608T171919Z
UID:7374-1624492800-1624579199@cajica.gov.co
SUMMARY:Taller “Como demuestras el amor a tus hijos”.
DESCRIPTION:Secretaria de Educación
URL:https://cajica.gov.co/event/taller-como-demuestras-el-amor-a-tus-hijos/
END:VEVENT
BEGIN:VEVENT
DTSTART;TZID=America/Bogota:20210619T080000
DTEND;TZID=America/Bogota:20210619T160000
DTSTAMP:20260425T060301
CREATED:20210608T180100Z
LAST-MODIFIED:20210608T180100Z
UID:7414-1624089600-1624118400@cajica.gov.co
SUMMARY:Unidad Móvil- El Rocío
DESCRIPTION:Secretaria de Salud
URL:https://cajica.gov.co/event/unidad-movil-el-rocio/
END:VEVENT
BEGIN:VEVENT
DTSTART;VALUE=DATE:20210619
DTEND;VALUE=DATE:20210621
DTSTAMP:20260425T060301
CREATED:20210422T204833Z
LAST-MODIFIED:20210422T204833Z
UID:5682-1624060800-1624233599@cajica.gov.co
SUMMARY:Busongote
DESCRIPTION:Instituto de Cultura y Turismo
URL:https://cajica.gov.co/event/busongote/
END:VEVENT
BEGIN:VEVENT
DTSTART;TZID=America/Bogota:20210618T080000
DTEND;TZID=America/Bogota:20210618T160000
DTSTAMP:20260425T060301
CREATED:20210608T175916Z
LAST-MODIFIED:20210608T175916Z
UID:7412-1624003200-1624032000@cajica.gov.co
SUMMARY:Unidad Móvil- El Cortijo
DESCRIPTION:Secretaria de Salud
URL:https://cajica.gov.co/event/unidad-movil-el-cortijo/
END:VEVENT
BEGIN:VEVENT
DTSTART;VALUE=DATE:20210618
DTEND;VALUE=DATE:20210619
DTSTAMP:20260425T060301
CREATED:20210422T204605Z
LAST-MODIFIED:20210422T204605Z
UID:5676-1623974400-1624060799@cajica.gov.co
SUMMARY:Jornada de donación de sangre
DESCRIPTION:Secretaria de Salud
URL:https://cajica.gov.co/event/jornada-de-donacion-de-sangre-4/
END:VEVENT
BEGIN:VEVENT
DTSTART;TZID=America/Bogota:20210612T080000
DTEND;TZID=America/Bogota:20210612T160000
DTSTAMP:20260425T060301
CREATED:20210608T175814Z
LAST-MODIFIED:20210608T175814Z
UID:7410-1623484800-1623513600@cajica.gov.co
SUMMARY:Unidad Móvil- La Laguna
DESCRIPTION:Secretaria de Salud
URL:https://cajica.gov.co/event/unidad-movil-la-laguna/
END:VEVENT
BEGIN:VEVENT
DTSTART;TZID=America/Bogota:20210611T080000
DTEND;TZID=America/Bogota:20210611T160000
DTSTAMP:20260425T060301
CREATED:20210608T175713Z
LAST-MODIFIED:20210608T175713Z
UID:7408-1623398400-1623427200@cajica.gov.co
SUMMARY:Unidad Móvil- Gran Colombia
DESCRIPTION:Secretaria de Salud
URL:https://cajica.gov.co/event/unidad-movil-gran-colombia/
END:VEVENT
BEGIN:VEVENT
DTSTART;TZID=America/Bogota:20210605T080000
DTEND;TZID=America/Bogota:20210605T160000
DTSTAMP:20260425T060301
CREATED:20210608T175602Z
LAST-MODIFIED:20210608T175602Z
UID:7406-1622880000-1622908800@cajica.gov.co
SUMMARY:Unidad Móvil- Buena Suerte
DESCRIPTION:Secretaria de Salud
URL:https://cajica.gov.co/event/unidad-movil-buena-suerte/
END:VEVENT
BEGIN:VEVENT
DTSTART;TZID=America/Bogota:20210604T080000
DTEND;TZID=America/Bogota:20210604T160000
DTSTAMP:20260425T060301
CREATED:20210608T175441Z
LAST-MODIFIED:20210608T175441Z
UID:7404-1622793600-1622822400@cajica.gov.co
SUMMARY:Unidad Móvil- El Misterio
DESCRIPTION:Secretaria de Salud
URL:https://cajica.gov.co/event/unidad-movil-el-misterio/
END:VEVENT
BEGIN:VEVENT
DTSTART;VALUE=DATE:20210601
DTEND;VALUE=DATE:20210701
DTSTAMP:20260425T060301
CREATED:20210422T205023Z
LAST-MODIFIED:20210422T205023Z
UID:5684-1622505600-1625097599@cajica.gov.co
SUMMARY:Festival de orquestas sinfónicas
DESCRIPTION:Instituto de Cultura y Turismo
URL:https://cajica.gov.co/event/festival-de-orquestas-sinfonicas/
END:VEVENT
BEGIN:VEVENT
DTSTART;VALUE=DATE:20210601
DTEND;VALUE=DATE:20210701
DTSTAMP:20260425T060301
CREATED:20210422T204934Z
LAST-MODIFIED:20210422T204934Z
UID:5683-1622505600-1625097599@cajica.gov.co
SUMMARY:Encuentro departamental de consejeros de cultura
DESCRIPTION:Instituto de Cultura y Turismo
URL:https://cajica.gov.co/event/encuentro-departamental-de-consejeros-de-culrura/
END:VEVENT
BEGIN:VEVENT
DTSTART;VALUE=DATE:20210601
DTEND;VALUE=DATE:20210701
DTSTAMP:20260425T060301
CREATED:20210422T204701Z
LAST-MODIFIED:20210422T204701Z
UID:5677-1622505600-1625097599@cajica.gov.co
SUMMARY:Jornada familia gestante
DESCRIPTION:Secretaria de Salud
URL:https://cajica.gov.co/event/jornada-familia-gestante/
END:VEVENT
BEGIN:VEVENT
DTSTART;TZID=America/Bogota:20210529T080000
DTEND;TZID=America/Bogota:20210529T160000
DTSTAMP:20260425T060301
CREATED:20210608T174726Z
LAST-MODIFIED:20210608T174726Z
UID:7401-1622275200-1622304000@cajica.gov.co
SUMMARY:Unidad Móvil- La Estación
DESCRIPTION:Secretaria de Salud
URL:https://cajica.gov.co/event/unidad-movil-la-estacion/
END:VEVENT
BEGIN:VEVENT
DTSTART;TZID=America/Bogota:20210528T080000
DTEND;TZID=America/Bogota:20210528T160000
DTSTAMP:20260425T060301
CREATED:20210608T173746Z
LAST-MODIFIED:20210608T173746Z
UID:7399-1622188800-1622217600@cajica.gov.co
SUMMARY:Unidad Móvil- Santa Cruz
DESCRIPTION:Secretaria de Salud
URL:https://cajica.gov.co/event/unidad-movil-santa-cruz/
END:VEVENT
BEGIN:VEVENT
DTSTART;TZID=America/Bogota:20210522T080000
DTEND;TZID=America/Bogota:20210522T160000
DTSTAMP:20260425T060301
CREATED:20210608T173606Z
LAST-MODIFIED:20210608T173606Z
UID:7397-1621670400-1621699200@cajica.gov.co
SUMMARY:Unidad Móvil- Capellanía
DESCRIPTION:Secretaria de Salud
URL:https://cajica.gov.co/event/unidad-movil-capellania/
END:VEVENT
BEGIN:VEVENT
DTSTART;TZID=America/Bogota:20210521T080000
DTEND;TZID=America/Bogota:20210521T160000
DTSTAMP:20260425T060301
CREATED:20210608T173506Z
LAST-MODIFIED:20210608T173506Z
UID:7395-1621584000-1621612800@cajica.gov.co
SUMMARY:Unidad Móvil- Chuntame
DESCRIPTION:Secretaria de Salud
URL:https://cajica.gov.co/event/unidad-movil-chuntame/
END:VEVENT
BEGIN:VEVENT
DTSTART;VALUE=DATE:20210519
DTEND;VALUE=DATE:20210520
DTSTAMP:20260425T060301
CREATED:20210422T204438Z
LAST-MODIFIED:20210422T204438Z
UID:5671-1621382400-1621468799@cajica.gov.co
SUMMARY:Jornada de donación de sangre
DESCRIPTION:Secretaria de Salud
URL:https://cajica.gov.co/event/jornada-de-donacion-de-sangre-3/
END:VEVENT
BEGIN:VEVENT
DTSTART;TZID=America/Bogota:20210515T080000
DTEND;TZID=America/Bogota:20210515T160000
DTSTAMP:20260425T060301
CREATED:20210608T173413Z
LAST-MODIFIED:20210608T173413Z
UID:7393-1621065600-1621094400@cajica.gov.co
SUMMARY:Unidad Móvil- Manas
DESCRIPTION:Secretaria de Salud
URL:https://cajica.gov.co/event/unidad-movil-manas/
END:VEVENT
BEGIN:VEVENT
DTSTART;TZID=America/Bogota:20210515T080000
DTEND;TZID=America/Bogota:20210515T160000
DTSTAMP:20260425T060301
CREATED:20210608T173216Z
LAST-MODIFIED:20210608T173216Z
UID:7391-1621065600-1621094400@cajica.gov.co
SUMMARY:Unidad Móvil- La Cumbre
DESCRIPTION:Secretaria de Salud
URL:https://cajica.gov.co/event/unidad-movil-la-cumbre/
END:VEVENT
BEGIN:VEVENT
DTSTART;TZID=America/Bogota:20210514T080000
DTEND;TZID=America/Bogota:20210514T160000
DTSTAMP:20260425T060301
CREATED:20210608T173120Z
LAST-MODIFIED:20210608T173120Z
UID:7389-1620979200-1621008000@cajica.gov.co
SUMMARY:Unidad Móvil- Calle 7a
DESCRIPTION:Secretaria de Salud
URL:https://cajica.gov.co/event/unidad-movil-calle-7a/
END:VEVENT
BEGIN:VEVENT
DTSTART;VALUE=DATE:20210514
DTEND;VALUE=DATE:20210517
DTSTAMP:20260425T060301
CREATED:20210422T204357Z
LAST-MODIFIED:20210422T204357Z
UID:5670-1620950400-1621209599@cajica.gov.co
SUMMARY:Concurso Nacional de música andina colombiana
DESCRIPTION:Instituto de Cultura y Turismo
URL:https://cajica.gov.co/event/concurso-nacional-de-musica-andina-colombiana/
END:VEVENT
BEGIN:VEVENT
DTSTART;TZID=America/Bogota:20210508T080000
DTEND;TZID=America/Bogota:20210508T160000
DTSTAMP:20260425T060301
CREATED:20210608T173016Z
LAST-MODIFIED:20210608T173016Z
UID:7387-1620460800-1620489600@cajica.gov.co
SUMMARY:Unidad Móvil- Aguanica
DESCRIPTION:Secretaria de Salud
URL:https://cajica.gov.co/event/unidad-movil-aguanica/
END:VEVENT
END:VCALENDAR